BEGIN:VCALENDAR
VERSION:2.0
PRODID:-//AJCAD - ECPv6.15.20//NONSGML v1.0//EN
CALSCALE:GREGORIAN
METHOD:PUBLISH
X-ORIGINAL-URL:https://ajcadmali.org
X-WR-CALDESC:Évènements pour AJCAD
REFRESH-INTERVAL;VALUE=DURATION:PT1H
X-Robots-Tag:noindex
X-PUBLISHED-TTL:PT1H
BEGIN:VTIMEZONE
TZID:Europe/Paris
BEGIN:DAYLIGHT
TZOFFSETFROM:+0100
TZOFFSETTO:+0200
TZNAME:CEST
DTSTART:20230326T010000
END:DAYLIGHT
BEGIN:STANDARD
TZOFFSETFROM:+0200
TZOFFSETTO:+0100
TZNAME:CET
DTSTART:20231029T010000
END:STANDARD
BEGIN:DAYLIGHT
TZOFFSETFROM:+0100
TZOFFSETTO:+0200
TZNAME:CEST
DTSTART:20240331T010000
END:DAYLIGHT
BEGIN:STANDARD
TZOFFSETFROM:+0200
TZOFFSETTO:+0100
TZNAME:CET
DTSTART:20241027T010000
END:STANDARD
BEGIN:DAYLIGHT
TZOFFSETFROM:+0100
TZOFFSETTO:+0200
TZNAME:CEST
DTSTART:20250330T010000
END:DAYLIGHT
BEGIN:STANDARD
TZOFFSETFROM:+0200
TZOFFSETTO:+0100
TZNAME:CET
DTSTART:20251026T010000
END:STANDARD
END:VTIMEZONE
BEGIN:VTIMEZONE
TZID:Africa/Bamako
BEGIN:STANDARD
TZOFFSETFROM:+0000
TZOFFSETTO:+0000
TZNAME:GMT
DTSTART:20230101T000000
END:STANDARD
END:VTIMEZONE
BEGIN:VEVENT
DTSTART;TZID=Europe/Paris:20240326T180000
DTEND;TZID=Europe/Paris:20240326T223000
DTSTAMP:20260421T143030
CREATED:20240208T105344Z
LAST-MODIFIED:20240208T105455Z
UID:3538-1711476000-1711492200@ajcadmali.org
SUMMARY:Soirée de la Démocratie
DESCRIPTION:Soirée de la Démocratie : cet évènement qui peut être organisée à la veille du 26 Mars dans un espace accessible et approprié à Bamako regroupera les acteurs démocratiques ainsi que partenaires et bénéficiaire de l’organisation. Elle sera animée de mini discussion (panel)\, expositions et animations culturelles.
URL:https://ajcadmali.org/event/soiree-de-la-democratie/
LOCATION:J27C+3XP\, Bamako\, Daoudabougou prêt de l'agence de voyage CTAC trans\, Bamako\, Mali\, Mali
ATTACH;FMTTYPE=image/jpeg:https://ajcadmali.org/wp-content/uploads/2024/01/IMG_1086-2-scaled.jpeg
END:VEVENT
BEGIN:VEVENT
DTSTART;VALUE=DATE:20240325
DTEND;VALUE=DATE:20240326
DTSTAMP:20260421T143030
CREATED:20240208T104002Z
LAST-MODIFIED:20240208T104233Z
UID:3535-1711324800-1711411199@ajcadmali.org
SUMMARY:Journée porte ouverte
DESCRIPTION:Journée Porte Ouverte : une journée porte ouverte sera organisée dans chaque bureaux de l’AJCAD (Siège\, les 04 antennes et 03 coordinations). La journée permettra d’exposer les orientations stratégiques de l’organisation\, les réalisations et tisser de partenariats ainsi que l’engagement des visiteurs dans l’atteinte des idéaux. Une caravane sous forme de journée porte ouverte mobile se déplacera également dans les zones stratégique avec les contenus que les journées dans les bureaux.
URL:https://ajcadmali.org/event/journee-porte-ouverte/
LOCATION:J27C+3XP\, Bamako\, Daoudabougou prêt de l'agence de voyage CTAC trans\, Bamako\, Mali\, Mali
ATTACH;FMTTYPE=image/jpeg:https://ajcadmali.org/wp-content/uploads/2024/01/IMG_1068-2-scaled.jpeg
ORGANIZER;CN="AJCAD":MAILTO:digitalajcad@gmail.com
END:VEVENT
BEGIN:VEVENT
DTSTART;TZID=Europe/Paris:20240126T150000
DTEND;TZID=Europe/Paris:20240126T180000
DTSTAMP:20260421T143030
CREATED:20240111T150751Z
LAST-MODIFIED:20240111T150752Z
UID:3187-1706281200-1706292000@ajcadmali.org
SUMMARY:Cafe citoyen janvier 2024
DESCRIPTION:
URL:https://ajcadmali.org/event/cafe-citoyen-janvier-2024/
LOCATION:Sur Zoom\, Mali
ATTACH;FMTTYPE=image/jpeg:https://ajcadmali.org/wp-content/uploads/2024/01/IMG_0305.jpg
ORGANIZER;CN="AJCAD":MAILTO:digitalajcad@gmail.com
END:VEVENT
END:VCALENDAR